BEGIN:VCALENDAR
VERSION:2.0
PRODID:-//Mardesomnis - ECPv6.9.1//NONSGML v1.0//EN
CALSCALE:GREGORIAN
METHOD:PUBLISH
X-ORIGINAL-URL:https://mardesomnis.org
X-WR-CALDESC:Eventos para Mardesomnis
REFRESH-INTERVAL;VALUE=DURATION:PT1H
X-Robots-Tag:noindex
X-PUBLISHED-TTL:PT1H
BEGIN:VTIMEZONE
TZID:Europe/Madrid
BEGIN:DAYLIGHT
TZOFFSETFROM:+0100
TZOFFSETTO:+0200
TZNAME:CEST
DTSTART:20250330T010000
END:DAYLIGHT
BEGIN:STANDARD
TZOFFSETFROM:+0200
TZOFFSETTO:+0100
TZNAME:CET
DTSTART:20251026T010000
END:STANDARD
BEGIN:DAYLIGHT
TZOFFSETFROM:+0100
TZOFFSETTO:+0200
TZNAME:CEST
DTSTART:20260329T010000
END:DAYLIGHT
BEGIN:STANDARD
TZOFFSETFROM:+0200
TZOFFSETTO:+0100
TZNAME:CET
DTSTART:20261025T010000
END:STANDARD
END:VTIMEZONE
BEGIN:VEVENT
DTSTART;VALUE=DATE:20250221
DTEND;VALUE=DATE:20250222
DTSTAMP:20260421T150243
CREATED:20250109T145433Z
LAST-MODIFIED:20250120T153337Z
UID:4449-1740096000-1740182399@mardesomnis.org
SUMMARY:ESCAPADA DE ESQUÍ - CANCELADA
DESCRIPTION:Evento Cancelado.
URL:https://mardesomnis.org/event/escapada-de-esqui-21-febrero/
ORGANIZER;CN="MDS":MAILTO:actions@mardesomnis.org
END:VEVENT
BEGIN:VEVENT
DTSTART;VALUE=DATE:20250223
DTEND;VALUE=DATE:20250224
DTSTAMP:20260421T150243
CREATED:20250109T145601Z
LAST-MODIFIED:20250220T115632Z
UID:4451-1740268800-1740355199@mardesomnis.org
SUMMARY:CAMPEONATO DE BOLOS - 23 Febrero
DESCRIPTION:Una nueva edición de nuestro campeonato de bolos. \nEl más divertido del mundo! \nPróximamente más información.
URL:https://mardesomnis.org/event/campeonato-de-bolos-8-marzo/
ORGANIZER;CN="MDS":MAILTO:actions@mardesomnis.org
END:VEVENT
BEGIN:VEVENT
DTSTART;TZID=Europe/Madrid:20250315T100000
DTEND;TZID=Europe/Madrid:20250315T140000
DTSTAMP:20260421T150243
CREATED:20250220T115922Z
LAST-MODIFIED:20250220T115922Z
UID:5438-1742032800-1742047200@mardesomnis.org
SUMMARY:3a Jornada para pacientes y familias con niños y niñas con epilepsia Sant Joan de Déu
DESCRIPTION:Con motivo de la celebración del Día Mundial de la Epilepsia o Día Púrpura\, que se celebra cada año el 26 de marzo\, el servicio de Neurología del Hospital Sant Joan de Déu organiza\, en colaboración con la asociación Mar de Somnis\, la tercera jornada para pacientes y familias con niños y niñas con epilepsia.
URL:https://mardesomnis.org/event/3a-jornada-para-pacientes-y-familias-con-ninos-y-ninas-con-epilepsia-sant-joan-de-deu/
LOCATION:Auditori Dr. Plaza Sant Joan de Deu
END:VEVENT
BEGIN:VEVENT
DTSTART;VALUE=DATE:20250321
DTEND;VALUE=DATE:20250322
DTSTAMP:20260421T150243
CREATED:20250109T145712Z
LAST-MODIFIED:20250109T145712Z
UID:4453-1742515200-1742601599@mardesomnis.org
SUMMARY:ART I SOMNIS - GIRONA 21 MARZO
DESCRIPTION:Nueva jornada de Art i Somnis. \nEl 21 de marzo en Girona. \nPronto más información.
URL:https://mardesomnis.org/event/art-i-somnis-girona-21-marzo/
ORGANIZER;CN="MDS":MAILTO:actions@mardesomnis.org
END:VEVENT
BEGIN:VEVENT
DTSTART;TZID=Europe/Madrid:20250517T080000
DTEND;TZID=Europe/Madrid:20250517T170000
DTSTAMP:20260421T150243
CREATED:20250415T082536Z
LAST-MODIFIED:20250415T082536Z
UID:5674-1747468800-1747501200@mardesomnis.org
SUMMARY:Master Chef en Barcelona
DESCRIPTION:Master Chef\, una propuesta para chicos y chicas de todas las edades que organizamos en Can Batlló (Barcelona).
URL:https://mardesomnis.org/event/master-chef-en-barcelona/
LOCATION:Can Batllo\, Barcelona\, Spain
ORGANIZER;CN="MDS":MAILTO:actions@mardesomnis.org
END:VEVENT
BEGIN:VEVENT
DTSTART;TZID=Europe/Madrid:20250525T130000
DTEND;TZID=Europe/Madrid:20250525T190000
DTSTAMP:20260421T150243
CREATED:20250507T084901Z
LAST-MODIFIED:20250507T084901Z
UID:5745-1748178000-1748199600@mardesomnis.org
SUMMARY:Película Lilo & Stich
DESCRIPTION:Comida y cine en Cinesa Barcelona
URL:https://mardesomnis.org/event/pelicula-lilo-stich/
LOCATION:Cinesa Diagonal Barcelona\, Barcelona\, Spain
ATTACH;FMTTYPE=image/jpeg:https://mardesomnis.org/wp-content/uploads/2025/05/LILO-Y-STITCH-LIVE-ACTION.jpeg
ORGANIZER;CN="MDS":MAILTO:actions@mardesomnis.org
END:VEVENT
BEGIN:VEVENT
DTSTART;TZID=Europe/Madrid:20250527T190000
DTEND;TZID=Europe/Madrid:20250527T203000
DTSTAMP:20260421T150243
CREATED:20250522T065257Z
LAST-MODIFIED:20250522T065257Z
UID:5786-1748372400-1748377800@mardesomnis.org
SUMMARY:GAM Epilepsia y Macrobiota
DESCRIPTION:A cargo de la doctora Maria Gómez Aguilar\, neuròloga que ha estudiado el efecto de la suplementación con probióticos en la epilepsia farmacorresistente. \nSerá la ponente invitada al próximo GAM de Mar de Somnis de 27 de mayo a las 19 h. que se realizará por zoom.
URL:https://mardesomnis.org/event/gam-epilepsia-y-macrobiota/
ATTACH;FMTTYPE=image/jpeg:https://mardesomnis.org/wp-content/uploads/2025/05/gam.jpeg
ORGANIZER;CN="MDS":MAILTO:actions@mardesomnis.org
END:VEVENT
BEGIN:VEVENT
DTSTART;TZID=Europe/Madrid:20250607T080000
DTEND;TZID=Europe/Madrid:20250607T170000
DTSTAMP:20260421T150243
CREATED:20250415T082803Z
LAST-MODIFIED:20250415T082803Z
UID:5680-1749283200-1749315600@mardesomnis.org
SUMMARY:Paddle Surf y picnic
DESCRIPTION:Paddle Surf para todos los chicos y chicas\, y picnic familiar en la playa de Vilanova i la Geltrú.
URL:https://mardesomnis.org/event/paddle-surf-y-picnic/
LOCATION:Vilanova\, Vilanova i la Geltrú\, Spain
ORGANIZER;CN="MDS":MAILTO:actions@mardesomnis.org
END:VEVENT
BEGIN:VEVENT
DTSTART;TZID=Europe/Madrid:20250706T080000
DTEND;TZID=Europe/Madrid:20250713T170000
DTSTAMP:20260421T150243
CREATED:20250415T083021Z
LAST-MODIFIED:20250415T083021Z
UID:5683-1751788800-1752426000@mardesomnis.org
SUMMARY:Colonias MDS
DESCRIPTION:Colonias Somnis d’estiu en Can Putxet. Grupo infantil y grupo +18.
URL:https://mardesomnis.org/event/colonias-mds/
LOCATION:Can Putxet\, Spain
ORGANIZER;CN="MDS":MAILTO:actions@mardesomnis.org
END:VEVENT
BEGIN:VEVENT
DTSTART;TZID=Europe/Madrid:20251019T173000
DTEND;TZID=Europe/Madrid:20251019T203000
DTSTAMP:20260421T150243
CREATED:20251006T082340Z
LAST-MODIFIED:20251007T145632Z
UID:6185-1760895000-1760905800@mardesomnis.org
SUMMARY:Karaoke MDS
DESCRIPTION:
URL:https://mardesomnis.org/event/karaoke-mds/
END:VEVENT
BEGIN:VEVENT
DTSTART;VALUE=DATE:20251026
DTEND;VALUE=DATE:20251027
DTSTAMP:20260421T150243
CREATED:20251006T082527Z
LAST-MODIFIED:20251006T082527Z
UID:6187-1761436800-1761523199@mardesomnis.org
SUMMARY:Art&Wine
DESCRIPTION:Actividad +18
URL:https://mardesomnis.org/event/artwine/
END:VEVENT
BEGIN:VEVENT
DTSTART;VALUE=DATE:20251107
DTEND;VALUE=DATE:20251110
DTSTAMP:20260421T150243
CREATED:20250929T084906Z
LAST-MODIFIED:20250929T084906Z
UID:6163-1762473600-1762732799@mardesomnis.org
SUMMARY:Art&Somnis Otoño
DESCRIPTION:Nueva edición de Art&Somnis
URL:https://mardesomnis.org/event/artsomnis-otono/
LOCATION:Vilfranca del Penedes
END:VEVENT
BEGIN:VEVENT
DTSTART;VALUE=DATE:20260131
DTEND;VALUE=DATE:20260202
DTSTAMP:20260421T150243
CREATED:20251229T104152Z
LAST-MODIFIED:20251229T105420Z
UID:6387-1769817600-1769990399@mardesomnis.org
SUMMARY:SALIDA AL CINE - PRÓXIMA ACTIVIDAD MDS
DESCRIPTION:Muy pronto os ampliaremos la información\, la película y el lugar… ¡Pero resérvate las fechas!
URL:https://mardesomnis.org/event/proxima-actividad-mds/
END:VEVENT
BEGIN:VEVENT
DTSTART;VALUE=DATE:20260207
DTEND;VALUE=DATE:20260209
DTSTAMP:20260421T150243
CREATED:20251229T104320Z
LAST-MODIFIED:20260121T075847Z
UID:6389-1770422400-1770595199@mardesomnis.org
SUMMARY:Visita a Cosmocaixa Barcelona
DESCRIPTION:El día 7 de febrero\, salida a Cosmocaixa para los más pequeños. Reserva ya tu plaza.
URL:https://mardesomnis.org/event/proxima-actividad-mds-2/
END:VEVENT
BEGIN:VEVENT
DTSTART;TZID=Europe/Madrid:20260221T080000
DTEND;TZID=Europe/Madrid:20260221T170000
DTSTAMP:20260421T150243
CREATED:20260121T080049Z
LAST-MODIFIED:20260121T084339Z
UID:6422-1771660800-1771693200@mardesomnis.org
SUMMARY:Salida a la bolera de Diagonal Mar
DESCRIPTION:Te unes a unas partidas de bolos? Pues ya puedes apuntarte!
URL:https://mardesomnis.org/event/salida-a-la-bolera-de-diagonal-mar/
END:VEVENT
BEGIN:VEVENT
DTSTART;VALUE=DATE:20260313
DTEND;VALUE=DATE:20260316
DTSTAMP:20260421T150243
CREATED:20251229T104625Z
LAST-MODIFIED:20260127T184539Z
UID:6391-1773360000-1773619199@mardesomnis.org
SUMMARY:ART & SOMNIS MDS
DESCRIPTION:Ya está todo preparado… del 13 al 15 de marzo en Santa Pau. \nYa has reservado?
URL:https://mardesomnis.org/event/art-sominis-mds-y-asamblea/
END:VEVENT
BEGIN:VEVENT
DTSTART;VALUE=DATE:20260328
DTEND;VALUE=DATE:20260330
DTSTAMP:20260421T150243
CREATED:20251229T104740Z
LAST-MODIFIED:20251229T104740Z
UID:6393-1774656000-1774828799@mardesomnis.org
SUMMARY:PRÓXIMA ACTIVIDAD MDS
DESCRIPTION:Muy pronto os informaremos… ¡Pero resérvate las fechas!
URL:https://mardesomnis.org/event/proxima-actividad-mds-3/
END:VEVENT
BEGIN:VEVENT
DTSTART;VALUE=DATE:20260412
DTEND;VALUE=DATE:20260413
DTSTAMP:20260421T150243
CREATED:20260318T084501Z
LAST-MODIFIED:20260318T084501Z
UID:6636-1775952000-1776038399@mardesomnis.org
SUMMARY:Barbacoa MDS
DESCRIPTION:Muy pronto ampliaremos info. Resérvate la fecha…..
URL:https://mardesomnis.org/event/barbacoa-mds/
END:VEVENT
BEGIN:VEVENT
DTSTART;VALUE=DATE:20260418
DTEND;VALUE=DATE:20260420
DTSTAMP:20260421T150243
CREATED:20251229T104824Z
LAST-MODIFIED:20251229T104824Z
UID:6395-1776470400-1776643199@mardesomnis.org
SUMMARY:PRÓXIMA ACTIVIDAD MDS
DESCRIPTION:Muy pronto os informaremos… ¡Pero resérvate las fechas!
URL:https://mardesomnis.org/event/proxima-actividad-mds-4/
END:VEVENT
BEGIN:VEVENT
DTSTART;VALUE=DATE:20260425
DTEND;VALUE=DATE:20260426
DTSTAMP:20260421T150243
CREATED:20260318T084541Z
LAST-MODIFIED:20260318T084541Z
UID:6638-1777075200-1777161599@mardesomnis.org
SUMMARY:Taller de Cerámica
DESCRIPTION:
URL:https://mardesomnis.org/event/taller-de-ceramica/
END:VEVENT
BEGIN:VEVENT
DTSTART;VALUE=DATE:20260516
DTEND;VALUE=DATE:20260518
DTSTAMP:20260421T150243
CREATED:20251229T104909Z
LAST-MODIFIED:20251229T104909Z
UID:6397-1778889600-1779062399@mardesomnis.org
SUMMARY:PRÓXIMA ACTIVIDAD MDS
DESCRIPTION:Muy pronto os informaremos… ¡Pero resérvate las fechas!
URL:https://mardesomnis.org/event/proxima-actividad-mds-5/
END:VEVENT
BEGIN:VEVENT
DTSTART;VALUE=DATE:20260530
DTEND;VALUE=DATE:20260601
DTSTAMP:20260421T150243
CREATED:20251229T104952Z
LAST-MODIFIED:20251229T104952Z
UID:6399-1780099200-1780271999@mardesomnis.org
SUMMARY:PRÓXIMA ACTIVIDAD MDS
DESCRIPTION:Muy pronto os informaremos… ¡Pero resérvate las fechas!
URL:https://mardesomnis.org/event/proxima-actividad-mds-6/
END:VEVENT
BEGIN:VEVENT
DTSTART;VALUE=DATE:20260613
DTEND;VALUE=DATE:20260615
DTSTAMP:20260421T150243
CREATED:20251229T105113Z
LAST-MODIFIED:20251229T105113Z
UID:6401-1781308800-1781481599@mardesomnis.org
SUMMARY:PRÓXIMA ACTIVIDAD MDS
DESCRIPTION:Muy pronto os informaremos… ¡Pero resérvate las fechas!
URL:https://mardesomnis.org/event/proxima-actividad-mds-7/
END:VEVENT
BEGIN:VEVENT
DTSTART;VALUE=DATE:20260627
DTEND;VALUE=DATE:20260629
DTSTAMP:20260421T150243
CREATED:20251229T105148Z
LAST-MODIFIED:20251229T105148Z
UID:6403-1782518400-1782691199@mardesomnis.org
SUMMARY:PRÓXIMA ACTIVIDAD MDS
DESCRIPTION:Muy pronto os informaremos… ¡Pero resérvate las fechas!
URL:https://mardesomnis.org/event/proxima-actividad-mds-8/
END:VEVENT
BEGIN:VEVENT
DTSTART;VALUE=DATE:20260705
DTEND;VALUE=DATE:20260713
DTSTAMP:20260421T150243
CREATED:20251229T105229Z
LAST-MODIFIED:20251229T105229Z
UID:6405-1783209600-1783900799@mardesomnis.org
SUMMARY:COLONIAS DE VERANO MDS
DESCRIPTION:Muy pronto os informaremos… ¡Pero resérvate las fechas!
URL:https://mardesomnis.org/event/colonias-de-verano-mds/
END:VEVENT
BEGIN:VEVENT
DTSTART;VALUE=DATE:20260705
DTEND;VALUE=DATE:20260713
DTSTAMP:20260421T150243
CREATED:20260318T084247Z
LAST-MODIFIED:20260318T084247Z
UID:6633-1783209600-1783900799@mardesomnis.org
SUMMARY:Colonias MDS 2026
DESCRIPTION:Este año soñaremos con la antigua Grecia\, talleres temáticos\, juegos de rol\, disfraces\, actividades artísticas\, espectáculos… como si fueramos antiguos griegos.
URL:https://mardesomnis.org/event/colonias-mds-2026/
LOCATION:Can Putxet\, Spain
END:VEVENT
END:VCALENDAR